BEGIN:VCALENDAR
VERSION:2.0
PRODID:-//Buro de Waal - ECPv6.15.20//NONSGML v1.0//EN
CALSCALE:GREGORIAN
METHOD:PUBLISH
X-ORIGINAL-URL:https://burodewaal.nl
X-WR-CALDESC:Evenementen voor Buro de Waal
REFRESH-INTERVAL;VALUE=DURATION:PT1H
X-Robots-Tag:noindex
X-PUBLISHED-TTL:PT1H
BEGIN:VTIMEZONE
TZID:UTC
BEGIN:STANDARD
TZOFFSETFROM:+0000
TZOFFSETTO:+0000
TZNAME:UTC
DTSTART:20170101T000000
END:STANDARD
END:VTIMEZONE
BEGIN:VTIMEZONE
TZID:Europe/Amsterdam
BEGIN:DAYLIGHT
TZOFFSETFROM:+0100
TZOFFSETTO:+0200
TZNAME:CEST
DTSTART:20180325T010000
END:DAYLIGHT
BEGIN:STANDARD
TZOFFSETFROM:+0200
TZOFFSETTO:+0100
TZNAME:CET
DTSTART:20181028T010000
END:STANDARD
BEGIN:DAYLIGHT
TZOFFSETFROM:+0100
TZOFFSETTO:+0200
TZNAME:CEST
DTSTART:20190331T010000
END:DAYLIGHT
BEGIN:STANDARD
TZOFFSETFROM:+0200
TZOFFSETTO:+0100
TZNAME:CET
DTSTART:20191027T010000
END:STANDARD
BEGIN:DAYLIGHT
TZOFFSETFROM:+0100
TZOFFSETTO:+0200
TZNAME:CEST
DTSTART:20200329T010000
END:DAYLIGHT
BEGIN:STANDARD
TZOFFSETFROM:+0200
TZOFFSETTO:+0100
TZNAME:CET
DTSTART:20201025T010000
END:STANDARD
BEGIN:DAYLIGHT
TZOFFSETFROM:+0100
TZOFFSETTO:+0200
TZNAME:CEST
DTSTART:20210328T010000
END:DAYLIGHT
BEGIN:STANDARD
TZOFFSETFROM:+0200
TZOFFSETTO:+0100
TZNAME:CET
DTSTART:20211031T010000
END:STANDARD
END:VTIMEZONE
BEGIN:VEVENT
DTSTART;TZID=UTC:20200501T160000
DTEND;TZID=UTC:20200630T180000
DTSTAMP:20260420T191453
CREATED:20200520T071542Z
LAST-MODIFIED:20200804T084420Z
UID:8884-1588348800-1593540000@burodewaal.nl
SUMMARY:Gratis sessie met een coach
DESCRIPTION:Maak dit voorjaar gratis kennis met Buro de Waal. Tijdens een 1 op 1 coachsessie ervaar je of stress- en burn-outcoaching wat voor jou zou kunnen zijn en maak je kennis met de deskundige aanpak van Buro de Waal. \nWat we doen tijdens de gratis sessie:\n\nWe maken een quick-scan zodat jij weet waar je staat op het gebied van stress;\nWe gaan hierover in gesprek en geven je een persoonlijk advies op maat;\nWe leggen uit hoe stress en burn-out werken in het lichaam en brein;\nEn we doen direct oefeningen zodat je ervaart hoe het is om op een andere wijze met stress om te gaan;\nDe sessie duurt ongeveer 1\,5 uur;\nNa de sessie ga je met hernieuwde energie\, inspiratie en inzichten weer naar huis;\nDe sessie verplicht je tot niets\, wil je na de sessie meer weten\, doen en ervaren? Dan ben je natuurlijk van harte welkom. Je ontvangt na de gratis sessie een coupon met maar liefst 10 procent korting op de eerste 5 coachsessies;\nEnthousiast? Schrijf je dan direct in\, we hebben nog maar een beperkt aantal plaatsen beschikbaar.\n\nWil jij je inschrijven? Vul dan het inschrijfformulier in. Wij nemen na ontvangt van het formulier contact met je op om een afspraak in te plannen. \nLeuk je te ontmoeten! \n  \n\n\n  \n  \n 
URL:https://burodewaal.nl/activiteit/gratis-sessie-met-een-coach-2/
LOCATION:Praktijk Buro de Waal\, Kerkenbos 10-37\, Nijmegen\, 6546 BB
ORGANIZER;CN="Buro de Waal":MAILTO:info@burodewaal.nl
END:VEVENT
BEGIN:VEVENT
DTSTART;TZID=Europe/Amsterdam:20200303T160000
DTEND;TZID=Europe/Amsterdam:20200303T180000
DTSTAMP:20260420T191453
CREATED:20190611T090613Z
LAST-MODIFIED:20200213T091333Z
UID:6942-1583251200-1583258400@burodewaal.nl
SUMMARY:Werkcollege 'Burn-out\, dat zie je zo!'
DESCRIPTION:Problemen rondom werkdruk\, overspannenheid en burn-out nemen steeds verder toe. 36 Procent van het werkgerelateerde verzuim ontstaat door stress. Toch zijn er maar weinig organisaties waarin leidinggevenden en HR professionals leren hoe je overmatige werkdruk\, stress en de eerste signalen van burn-out kunt herkennen en wie er in je team meer of minder vatbaar zijn stress- en burn-outklachten. \n\n\nInhoud van het werkcollege \nVaak te laat komen\, eerder van het werk vertrekken\, dingen vergeten\, last van nek en schouders en irritatie zijn slechts een paar verschijnselen die kunnen duiden op stress. \nTijdige signalering dat medewerkers last hebben van stress en werkdruk voorkomt dat ze blijven doorgaan en uiteindelijk ziek thuis komen te zitten. Wat zijn nou die eerste signalen? Bestaat zoiets als goede stress? Hoe kom je van stress naar overspannenheid en vervolgens naar een burn-out? En welke medewerkers zijn meer vatbaar voor stress? En als je dan iets denkt te signaleren bij je medewerker\, hoe ga je dan een goed gesprek aan? \nWil je samen met vakgenoten in 2 uur tijd worden bijgepraat over de laatste ontwikkelingen uit wetenschappelijk onderzoek ten aanzien van stress en burn-out? En wil je weten hoe een best practice het heeft aangepakt?\nBuro de Waal verzorgt in samenwerking met Robert Wouterse van Robrecht\, op dinsdag 3 maart 2020 een interactief werkcollege. Speciaal bedoeld voor leidinggevenden\, managers en HR professionals. \nWerkcollege\nTijdens het werkcollege is er\, naast de lezing\, volop ruimte voor vragen en dialoog. In het werkgedeelte van het college kun je aan de slag met eigen casuïstiek. We sluiten af met een dialoog rondom het vraagstuk hoe je vanuit de eigen rol kunt bijgedragen aan duurzame inzetbaarheid van werkenden. \nProgramma werkcollege\n\n15.30 uur: Inloop\n16.00 uur: Start werkcollege\n18.00 uur: Afronding\n\nAanmelden\nWij nodigen je van harte uit om aan het werkcollege deel te nemen. Het werkcollege vindt plaats bij de Poort van Nijmegen\, Kerkenbos 1037\, 6546 BB in Nijmegen. Aan het bijwonen van het werkcollege zijn geen kosten verbonden.
URL:https://burodewaal.nl/activiteit/burn-out-dat-zie-je-zo/
LOCATION:Gelderland
CATEGORIES:Zakelijk
ATTACH;FMTTYPE=image/jpeg:https://burodewaal.nl/wp-content/uploads/2019/06/fullsizeoutput_3fa2.jpeg
END:VEVENT
BEGIN:VEVENT
DTSTART;TZID=Europe/Amsterdam:20190916T080000
DTEND;TZID=Europe/Amsterdam:20190921T170000
DTSTAMP:20260420T191453
CREATED:20190611T084110Z
LAST-MODIFIED:20190826T110338Z
UID:6925-1568620800-1569085200@burodewaal.nl
SUMMARY:Gratis sessie loopbaanadvies tijdens de Nationale week van de loopbaan
DESCRIPTION:Twijfel jij wel eens of je huidige baan nog bij je past?\n\nEen loopbaan kan een onvoorspelbaar verloop krijgen. Je haalt geen voldoening en energie meer uit je werk. Ook na succesvolle jaren is vastlopen in je loopbaan zomaar mogelijk door bijvoorbeeld een veranderende organisatie\, een burn-out of ingrijpende gebeurtenissen in je persoonlijke leven. \nWerken aan nieuw perspectief \nWanneer je lange tijd in een bepaalde functie of branche hebt gewerkt\, kan het lastig zijn te bedenken wat je nieuwe stap op loopbaangebied gaat worden. Werken aan nieuw perspectief geeft energie! Loopbaanadvies van Buro de Waal schept duidelijkheid over welk werk bij jou past en helpt je daadwerkelijk tot actie over te gaan om dat werk te gaan vinden. \nNieuw perspectief na burn-out of bore-out \nWanneer je na een burn-out of bore-out weer aan het werk gaat\, kan het lastig zijn om tijdens je re-integratie te werken aan een nieuwe stap in je loopbaan. Buro de waal is gespecialiseerd in het begeleiden van mensen met verminderde energie. Zodat je in deze fase van je herstel ook de juiste\, duurzame stappen zet op carrière gebied. \nGratis adviesgesprek tijdens de week van de loopbaan \nBen je benieuwd of loopbaanadvies iets voor jou is? Schrijf je dan\, tijdens de Landelijke week van de loopbaan in voor een gratis loopbaansessie. Je maakt in 1\,5 uur kennis met ons en de werkwijze van Buro de Waal. Inschrijven is mogelijk tot 16 september. \n\n\n\n\n\n\n\n\n\n 
URL:https://burodewaal.nl/activiteit/loopbaanadvisering/
LOCATION:Praktijk Buro de Waal\, Kerkenbos 10-37\, Nijmegen\, 6546 BB
CATEGORIES:Particulier
ATTACH;FMTTYPE=image/jpeg:https://burodewaal.nl/wp-content/uploads/2019/06/fullsizeoutput_dbe.jpeg
END:VEVENT
BEGIN:VEVENT
DTSTART;TZID=Europe/Amsterdam:20190715T080000
DTEND;TZID=Europe/Amsterdam:20190726T170000
DTSTAMP:20260420T191453
CREATED:20190614T110055Z
LAST-MODIFIED:20190614T111128Z
UID:7005-1563177600-1564160400@burodewaal.nl
SUMMARY:Gratis sessie met een coach
DESCRIPTION:Ben jij altijd moe na een dag werken? Merk je de afgelopen maanden dat je steeds vaker uitgeput bent en geen zin meer hebt in de leuke dingen? Kijk jij al maanden uit naar je vakantie?\n\n\nWil jij ervaren hoe het is om vol energie door het leven te gaan? Maak kennis met stress en burn-out coaching tijdens een gratis coachsessie. \nDit is iets voor jou wanneer: \n– Je leeft van weekend tot weekend en van vakantie tot vakantie;\n– Je aan het werk bent maar bang bent voor een burn-out (of bore-out);\n– Je aan het einde van je werkdag uitgeput op de bank ploft;\n– Je steeds vaker leuke dingen moet afzeggen vanwege een laag energieniveau;\n– Je slaapt slecht;\n– Je merkt dat je steeds vaker ziek bent;\n– Je hebt steeds minder zin om met vrienden af te spreken omdat je geen puf hebt. \nTijdens een coachsessie van maar liefst 1\,5 uur ontdek jij waar je staat op het gebied van stress en burn-out\, je maakt gratis de FIT 60 test. Daarnaast doe je samen met je coach oefeningen om te ontdekken hoe je een betere relatie kunt krijgen met stress. \nWil jij je inschrijven? Vul het inschrijfformulier in. Wij nemen na ontvangt van het formulier contact met jou op om een afspraak in te plannen. \nLeuk je te ontmoeten! \n  \n\n\n\n 
URL:https://burodewaal.nl/activiteit/gratis-sessie-met-een-coach/
LOCATION:Praktijk Buro de Waal\, Kerkenbos 10-37\, Nijmegen\, 6546 BB
CATEGORIES:Particulier
ATTACH;FMTTYPE=image/jpeg:https://burodewaal.nl/wp-content/uploads/2019/06/FB-advertentie-Stress-en-burn-out-begeleiding-.jpg
END:VEVENT
BEGIN:VEVENT
DTSTART;TZID=Europe/Amsterdam:20190610T080000
DTEND;TZID=Europe/Amsterdam:20190614T170000
DTSTAMP:20260420T191453
CREATED:20190529T091142Z
LAST-MODIFIED:20190529T095333Z
UID:6869-1560153600-1560531600@burodewaal.nl
SUMMARY:Gratis sessie met een loopbaancoach
DESCRIPTION:Mis je werkplezier? Voel je een mis-match in je huidige baan? Overweeg je een carrière-switch? Dreigt boventalligheid?\n\n\n \n\n\n\nIn de week van 10 tot en met 14 juni kun jij gratis gebruik maken van een sessie met een loopbaancoach.  Tijdens een energieke sessie van maar liefst anderhalf uur zet je de eerste belangrijke stappen in jouw loopbaantraject! Je gaat naar huis met veel nieuwe inzichten én een shot aan inspiratie. \n\n\n\n\n 
URL:https://burodewaal.nl/activiteit/gratis-sessie-met-een-loopbaancoach/
LOCATION:Praktijk Buro de Waal\, Kerkenbos 10-37\, Nijmegen\, 6546 BB
ATTACH;FMTTYPE=image/jpeg:https://burodewaal.nl/wp-content/uploads/2019/05/Kopie-van-gratis-eerste-consult.jpg
END:VEVENT
BEGIN:VEVENT
DTSTART;TZID=UTC:20190522T090000
DTEND;TZID=UTC:20190522T123000
DTSTAMP:20260420T191453
CREATED:20180629T080908Z
LAST-MODIFIED:20190401T141035Z
UID:3519-1558515600-1558528200@burodewaal.nl
SUMMARY:Praktijkleergang Stress de baas
DESCRIPTION:Je bent steeds vaker moe. Na een werkdag plof je op de bank\, leeg en zonder energie voor ‘leuke’ dingen. \nBen je op zoek naar een goede balans tussen enerzijds energie en anderzijds rust en ontspanning? Wil je minder stress voelen in je lichaam en hoofd? Wil je met plezier leven en werken? \nStart dan met de praktijkleergang Stress de Baas van Buro de Waal en ontdek dat leven en werken vanuit ontspanning\, plezier en passie ook voor jou is weggelegd. \nAlerter\, frisser en meer gefocust? Stress zit voor een groot deel in je hoofd. En daar is iets aan te doen. \nDit leer je: \n\nBalans vinden tussen inspanning en ontspanning;\nHerkennen stress-signalen en stressbronnen;\nOmgaan met emoties en piekergedachten;\nInplannen van activiteiten waar je energie van krijgt;\nPrioriteiten stellen\, ‘nee’ zeggen\, grenzen herkennen en aangeven;\nVergroten van je veerkracht;\nHerstellen na inspanning en werken aan jouw sociale vangnet;\nLeren van ervaringen van andere deelnemers en interactie met hen.\n\nKortom chronische stress omzetten naar gezonde stress. \nNa het volgen van de praktijkleergang ervaar jij de rust en ruimte waar je lang naar hebt verlangd. \nDe praktijkleergang heeft een doorlooptijd van 2 maanden. Gedurende de praktijkleergang zijn er 5 trainingen van 9.00-12.30 in een kleine groep van maximaal 6 deelnemers. Daarnaast krijg je 1 individuele coachsessie van 1\,5 uur. \nDeze training is reeds gestart. In mei start een nieuwe groep. Wil je meer weten of inschrijven voor de groep die start in mei? Neem dan contact met ons op. \nData: \nDag 1: woensdag 13 maart van 9.00-12.30 \nDag 2: woensdag 27 maart van 9.00-12.30 \nDag 3: woensdag 10 april 9.00-12.30 \nDag 4: woensdag 24 april 9.00-12.30 \nDag 5: woensdag 15 mei 9.00-12.30 \n*De 1 op 1 coachsessie wordt separaat ingepland. \nWil jij meer informatie of jezelf direct inschrijven? Klik hier. \n 
URL:https://burodewaal.nl/activiteit/praktijkleergang-stress-de-baas/
LOCATION:Kerkenbos 1037\, Kerkenbos 1037\, Nijmegen\, Gelderland\, 6546BB\, Nederland
CATEGORIES:Particulier,Zakelijk
ATTACH;FMTTYPE=:
ORGANIZER;CN="Buro de Waal":MAILTO:info@burodewaal.nl
END:VEVENT
BEGIN:VEVENT
DTSTART;TZID=UTC:20190520T190000
DTEND;TZID=UTC:20190520T220000
DTSTAMP:20260420T191453
CREATED:20190424T073125Z
LAST-MODIFIED:20200804T084455Z
UID:6613-1558378800-1558389600@burodewaal.nl
SUMMARY:Gratis workshop: Maak van stress je vriend
DESCRIPTION:Buro de Waal bestaat 1 jaar en dat vieren wij met jou. Schrijf je nu in voor de gratis workshop ‘Maak van stress je vriend’. \nProgramma: \n18.30-19.00 Ontvangst met koffie en thee\n19.00-20.30 Start programma/Deel 1: Hoe om te gaan met piekergedachten die stress veroorzaken\n20.30-22.00 Deel 2: Je ontdekt op welke manier je een gezonde relatie met stress kunt opbouwen \nDeelnemers ontvangen aan het einde van de avond een goodie bag \nJa\, leuk ik wil mij inschrijven 
URL:https://burodewaal.nl/activiteit/gratis-workshop-maak-van-stress-je-vriend/
LOCATION:Kerkenbos 1037\, Kerkenbos 1037\, Nijmegen\, Gelderland\, 6546BB\, Nederland
ATTACH;FMTTYPE=image/png:https://burodewaal.nl/wp-content/uploads/2019/04/Gratis-workshop-3.png
ORGANIZER;CN="Buro de Waal":MAILTO:info@burodewaal.nl
END:VEVENT
BEGIN:VEVENT
DTSTART;TZID=UTC:20190423T080000
DTEND;TZID=UTC:20190426T170000
DTSTAMP:20260420T191453
CREATED:20190401T141422Z
LAST-MODIFIED:20190410T064510Z
UID:6131-1556006400-1556298000@burodewaal.nl
SUMMARY:Gratis coachsessie stress en burn-out coaching
DESCRIPTION:Ben jij altijd moe na een dag werken? Merk je de afgelopen maanden dat je steeds vaker uitgeput bent en geen zin meer hebt in de leuke dingen? \nWil jij weer weten hoe het is om vol energie door het leven te gaan? Maak kennis met stress en burn-out coaching tijdens een gratis coachsessie. \nDit is iets voor jou wanneer: \n– Je leeft van weekend tot weekend en van vakantie tot vakantie;\n– Je aan het werk bent maar bang bent voor een burn-out;\n– Je aan het einde van je werkdag uitgeput op de bank ploft;\n– Je steeds vaker leuke dingen moet afzeggen vanwege een laag energieniveau; \nTijdens een gratis coachsessie ervaar je hoe stress en burn-out coaching jouw leven kan veranderen. \nWil jij je inschrijven? Vul het inschrijfformulier in. Wij nemen na ontvangt van het formulier contact met jou op om een afspraak in te plannen. \nLeuk je te ontmoeten! \n 
URL:https://burodewaal.nl/activiteit/gratis-coachsessie-stress-en-burn-out-coaching/
LOCATION:Gelderland
ATTACH;FMTTYPE=image/jpeg:https://burodewaal.nl/wp-content/uploads/2019/02/DSC6397-4.jpg
ORGANIZER;CN="Buro de Waal":MAILTO:info@burodewaal.nl
END:VEVENT
BEGIN:VEVENT
DTSTART;VALUE=DATE:20190218
DTEND;VALUE=DATE:20190223
DTSTAMP:20260420T191453
CREATED:20181016T113817Z
LAST-MODIFIED:20190218T075124Z
UID:4770-1550448000-1550879999@burodewaal.nl
SUMMARY:Maak gratis kennis met loopbaan coaching
DESCRIPTION:Mis je werkplezier? Voel je een mis-match in je huidige baan? Overweeg je een carrière-switch? Dreigt boventalligheid?\n\n\n \n\n\nIn de week van 18 tot en met 22 februari kun jij gratis ontdekken wat loopbaanadvies inhoudt. Tijdens een energieke sessie van maar liefst anderhalf uur zet je de eerste belangrijke stappen in jouw loopbaantraject! Je gaat naar huis met testresultaten\, nieuwe inzichten én een shot aan inspiratie.\n\n\n \n\n\nTijdens de persoonlijke sessie (1 op 1) ontdek je wat onze begeleiding inhoudt en wat wij voor jou kunnen betekenen.\n\n\n \n\n\nInschrijven voor een gratis sessie? \n\nHelaas is het vanwege de grote belangstelling niet meer mogelijk je in te schrijven voor een gratis coachsessie. Wij hebben regelmatig acties met gratis sessies. Volg ons op social media om op de hoogte te blijven van al onze acties. Heb je een loopbaanvraag? neem contact met ons op voor een gratis kennismakingsgesprek. \n  \n 
URL:https://burodewaal.nl/activiteit/gratis-sessie-loopbaan-coaching/
LOCATION:Kerkenbos 1037\, Kerkenbos 1037\, Nijmegen\, Gelderland\, 6546BB\, Nederland
CATEGORIES:Particulier
ATTACH;FMTTYPE=image/jpeg:https://burodewaal.nl/wp-content/uploads/2019/01/DSC6397-4-e1550847543274.jpg
ORGANIZER;CN="Buro de Waal":MAILTO:info@burodewaal.nl
END:VEVENT
BEGIN:VEVENT
DTSTART;VALUE=DATE:20181101
DTEND;VALUE=DATE:20181102
DTSTAMP:20260420T191453
CREATED:20181016T112101Z
LAST-MODIFIED:20181016T112931Z
UID:4754-1541030400-1541116799@burodewaal.nl
SUMMARY:Ontdek wat persoonlijke coaching voor jouw loopbaan kan betekenen
DESCRIPTION:Mis je werkplezier? Voel je een mis-match in je huidige baan? Overweeg je een carrière-switch? Dreigt boventalligheid? \nVoel je dat je iets moet doen maar weet je niet waar te beginnen? Iedere eerste donderdag van de maand kun je gratis kennismaken met de persoonlijke coaching van Buro de Waal. Iedere eerste donderdag va de maand opent Buro de Waal haar deuren voor geinteresseerden. Donderdag 1 november staat deze dag in het teken van werk\, loopbaan en carrière. \nTijdens een gratis sessie ontdek je wat onze begeleiding inhoud en wat het voor jou kan betekenen. \nInschrijven \n 
URL:https://burodewaal.nl/activiteit/ontdek-wat-persoonlijke-coaching-voor-jou-kan-betekenen/
LOCATION:Startup Nijmegen\, Stationsplein 26\, Nijmegen\, 6512 AB\, Nederland
CATEGORIES:Particulier
ATTACH;FMTTYPE=image/jpeg:https://burodewaal.nl/wp-content/uploads/2018/05/40773484_m-1-afbeelding-voor-particuliere-pagina.jpg
ORGANIZER;CN="Buro de Waal":MAILTO:info@burodewaal.nl
END:VEVENT
BEGIN:VEVENT
DTSTART;TZID=UTC:20181001T173000
DTEND;TZID=UTC:20181001T210000
DTSTAMP:20260420T191453
CREATED:20180607T115253Z
LAST-MODIFIED:20181016T112023Z
UID:3326-1538415000-1538427600@burodewaal.nl
SUMMARY:Masterclass: Van HR-beleid naar Vitaliserend HR-beleid
DESCRIPTION:Tijdens deze Masterclass ontdek je op welke manier je HR-beleid kunt vertalen naar vitaliserend HR-beleid. Meer informatie over de inhoud van deze unieke Masterclass volgt op korte termijn. \nNu al inschrijven? Dat is mogelijk via onderstaande inschrijfknop. \n\nDe vermelde kosten zijn exclusief BTW.
URL:https://burodewaal.nl/activiteit/masterclass-hr-beleid-vitaliserend-hr-beleid/
LOCATION:Startup Nijmegen\, Stationsplein 26\, Nijmegen\, 6512 AB\, Nederland
CATEGORIES:Zakelijk
ORGANIZER;CN="Buro de Waal":MAILTO:info@burodewaal.nl
END:VEVENT
BEGIN:VEVENT
DTSTART;TZID=UTC:20180911T170000
DTEND;TZID=UTC:20180911T193000
DTSTAMP:20260420T191453
CREATED:20180607T114950Z
LAST-MODIFIED:20180904T135643Z
UID:3320-1536685200-1536694200@burodewaal.nl
SUMMARY:Werkcollege 'Duurzame inzetbaarheid: zijn we de hype voorbij'
DESCRIPTION:Wil je samen met collega’s uit het HR vakgebied in 2 uur tijd worden bijgepraat over de laatste ontwikkelingen uit wetenschappelijk onderzoek ten aanzien van duurzame inzetbaarheid? \nOmdat de eerste editie een succes was geeft Buro de Waal op dinsdag 11 september 2018 voor de tweede keer\, het werkcollege voor HR managers en HR adviseurs met als titel: \n‘Duurzame inzetbaarheid: zijn we de hype voorbij?’ \nTijdens het werkcollege is er\, naast de lezing\, volop ruimte voor vragen en dialoog. Buro de Waal gaat in op de meest recente kennis rondom duurzame inzetbaarheid en welke factoren cruciaal zijn voor de verdere doorontwikkeling daarvan.\nWe baseren ons daarbij op onderzoek van Prof. dr. Judith Semeijn\, werkzaam op de faculteit Management\, Science & Technology van de Open Universiteit. \nIn het werkgedeelte van het college kun je aan de slag met een zogenaamde krachtenveldanalyse rondom eigen casuïstiek. We sluiten af met een dialoog rondom het vraagstuk hoe je vanuit de eigen rol kunt bijgedragen aan duurzame inzetbaarheid van werkenden. \nProgramma vindt plaats bij Startup Nijmegen\, Stationsplein 26 in Nijmegen:\n• 17.00: Inloop\n• 17.30: Start werkcollege\n• 19.30: Netwerk borrel \nAanmelden\nWij nodigen je van harte uit om aan het werkcollege deel te nemen. We zorgen voor een snack en wat te drinken. Ons werkcollege is kosteloos voor jezelf en een introducé. We hebben plek voor 15 mensen. Aanmelden kan tot en met 6 september. \nMeld je dan nu aan
URL:https://burodewaal.nl/activiteit/werkcollege-duurzame-inzetbaarheid-zijn-we-de-hype-voorbij/
LOCATION:Startup Nijmegen\, Stationsplein 26\, Nijmegen\, 6512 AB\, Nederland
CATEGORIES:Particulier,Zakelijk
ATTACH;FMTTYPE=image/jpeg:https://burodewaal.nl/wp-content/uploads/2018/06/Foto-uitnodiging-werkcollege.jpg
ORGANIZER;CN="Buro de Waal":MAILTO:info@burodewaal.nl
END:VEVENT
END:VCALENDAR